BEGIN:VCALENDAR
VERSION:2.0
PRODID:-//hacksw/handcal//NONSGML v1.0//EN
BEGIN:VEVENT
SUMMARY:Rencontre amicale Decize Vendredi 12/06
UID:1ff77562-5143-48d1-b501-a6df0863a9d1
DTSTART:20260612T180000Z
DTEND:20260612T203000Z
LOCATION:Localisation   
CATEGORIES:Sportif
STATUS:
DESCRIPTION:<p>Bonsoir.</p>
 
 <p>Un formulaire d inscription vous sera
 envoyer prochainement.</p>
 
 <p> </p>
URL;VALUE=URI:https://levolantgarchizois.sportsregions.fr/evenements/2026/06/12/rencontre-amicale-decize-vendredi-1206-2439631
END:VEVENT
END:VCALENDAR
